BEGIN:VCALENDAR
VERSION:2.0
PRODID:-//Kimura Racing - ECPv6.2.2//NONSGML v1.0//EN
CALSCALE:GREGORIAN
METHOD:PUBLISH
X-ORIGINAL-URL:https://kimuraracing.com
X-WR-CALDESC:Events for Kimura Racing
REFRESH-INTERVAL;VALUE=DURATION:PT1H
X-Robots-Tag:noindex
X-PUBLISHED-TTL:PT1H
BEGIN:VTIMEZONE
TZID:UTC
BEGIN:STANDARD
TZOFFSETFROM:+0000
TZOFFSETTO:+0000
TZNAME:UTC
DTSTART:20230101T000000
END:STANDARD
END:VTIMEZONE
BEGIN:VEVENT
DTSTART;VALUE=DATE:20230601
DTEND;VALUE=DATE:20230605
DTSTAMP:20260424T022357
CREATED:20230522T140931Z
LAST-MODIFIED:20230522T140931Z
UID:6986-1685577600-1685923199@kimuraracing.com
SUMMARY:Ginetta GT Championship - Round Four - ‘G Fest’ Silverstone (Grand Prix and National)
DESCRIPTION:
URL:https://kimuraracing.com/race/ginetta-gt-championship-round-four-g-fest-silverstone-grand-prix-and-national/
CATEGORIES:Ginetta GT Championship 2023
END:VEVENT
BEGIN:VEVENT
DTSTART;VALUE=DATE:20230610
DTEND;VALUE=DATE:20230611
DTSTAMP:20260424T022357
CREATED:20230522T145027Z
LAST-MODIFIED:20230522T145027Z
UID:7068-1686355200-1686441599@kimuraracing.com
SUMMARY:BRSCC Fiesta Junior Championship - TCR UK Oulton Park Race Day
DESCRIPTION:
URL:https://kimuraracing.com/race/brscc-fiesta-junior-championship-tcr-uk-oulton-park-race-day/
CATEGORIES:BRSCC Fiesta Junior Championship 2023
END:VEVENT
BEGIN:VEVENT
DTSTART;VALUE=DATE:20230616
DTEND;VALUE=DATE:20230619
DTSTAMP:20260424T022357
CREATED:20230210T110918Z
LAST-MODIFIED:20230210T110918Z
UID:5381-1686873600-1687132799@kimuraracing.com
SUMMARY:iRacing - Watkins 6 Hour
DESCRIPTION:
URL:https://kimuraracing.com/race/iracing-watkins-6-hour/
CATEGORIES:Sim Racing
END:VEVENT
BEGIN:VEVENT
DTSTART;VALUE=DATE:20230617
DTEND;VALUE=DATE:20230619
DTSTAMP:20260424T022357
CREATED:20230210T105343Z
LAST-MODIFIED:20230210T105709Z
UID:5340-1686960000-1687132799@kimuraracing.com
SUMMARY:GB4 Snetterton 300 (with British GT & GB3)
DESCRIPTION:
URL:https://kimuraracing.com/race/snetterton-300-with-british-gt-gb3/
CATEGORIES:GB4
END:VEVENT
BEGIN:VEVENT
DTSTART;VALUE=DATE:20230617
DTEND;VALUE=DATE:20230619
DTSTAMP:20260424T022357
CREATED:20230522T141002Z
LAST-MODIFIED:20230522T141002Z
UID:6988-1686960000-1687132799@kimuraracing.com
SUMMARY:Ginetta GT Championship - Round Five - Snetterton (300)
DESCRIPTION:
URL:https://kimuraracing.com/race/ginetta-gt-championship-round-five-snetterton-300/
CATEGORIES:Ginetta GT Championship 2023
END:VEVENT
BEGIN:VEVENT
DTSTART;VALUE=DATE:20230624
DTEND;VALUE=DATE:20230625
DTSTAMP:20260424T022357
CREATED:20230522T141537Z
LAST-MODIFIED:20230522T141644Z
UID:7000-1687564800-1687651199@kimuraracing.com
SUMMARY:Fun Cup Endurance Championship - Round 3 - Anglesey Coastal Day
DESCRIPTION:
URL:https://kimuraracing.com/race/fun-cup-endurance-championship-round-3-anglesey-coastal/
CATEGORIES:Fun Cup Endurance Championship 2023
END:VEVENT
BEGIN:VEVENT
DTSTART;VALUE=DATE:20230624
DTEND;VALUE=DATE:20230625
DTSTAMP:20260424T022357
CREATED:20230522T141615Z
LAST-MODIFIED:20230522T141615Z
UID:7002-1687564800-1687651199@kimuraracing.com
SUMMARY:Fun Cup Endurance Championship - Round 4 - Anglesey Coastal Night
DESCRIPTION:
URL:https://kimuraracing.com/race/fun-cup-endurance-championship-round-4-anglesey-coastal-night/
CATEGORIES:Fun Cup Endurance Championship 2023
END:VEVENT
END:VCALENDAR