BEGIN:VCALENDAR
VERSION:2.0
PRODID:-//Kimura Racing - ECPv6.2.2//NONSGML v1.0//EN
CALSCALE:GREGORIAN
METHOD:PUBLISH
X-ORIGINAL-URL:https://kimuraracing.com
X-WR-CALDESC:Events for Kimura Racing
REFRESH-INTERVAL;VALUE=DURATION:PT1H
X-Robots-Tag:noindex
X-PUBLISHED-TTL:PT1H
BEGIN:VTIMEZONE
TZID:UTC
BEGIN:STANDARD
TZOFFSETFROM:+0000
TZOFFSETTO:+0000
TZNAME:UTC
DTSTART:20230101T000000
END:STANDARD
END:VTIMEZONE
BEGIN:VEVENT
DTSTART;VALUE=DATE:20230909
DTEND;VALUE=DATE:20230910
DTSTAMP:20260423T234340
CREATED:20230522T141918Z
LAST-MODIFIED:20230522T141918Z
UID:7009-1694217600-1694303999@kimuraracing.com
SUMMARY:Fun Cup Endurance Championship - Round 7 - Donington National
DESCRIPTION:
URL:https://kimuraracing.com/race/fun-cup-endurance-championship-round-7-donington-national/
CATEGORIES:Fun Cup Endurance Championship 2023
END:VEVENT
BEGIN:VEVENT
DTSTART;VALUE=DATE:20230909
DTEND;VALUE=DATE:20230911
DTSTAMP:20260423T234340
CREATED:20230210T105423Z
LAST-MODIFIED:20230210T105702Z
UID:5344-1694217600-1694390399@kimuraracing.com
SUMMARY:GB4 Brands Hatch GP (with British GT & GB3)
DESCRIPTION:
URL:https://kimuraracing.com/race/brands-hatch-gp-with-british-gt-gb3/
CATEGORIES:GB4
END:VEVENT
BEGIN:VEVENT
DTSTART;VALUE=DATE:20230909
DTEND;VALUE=DATE:20230911
DTSTAMP:20260423T234340
CREATED:20230522T141123Z
LAST-MODIFIED:20230522T141123Z
UID:6992-1694217600-1694390399@kimuraracing.com
SUMMARY:Ginetta GT Championship - Round Seven - Brands Hatch (Grand Prix)
DESCRIPTION:
URL:https://kimuraracing.com/race/ginetta-gt-championship-round-seven-brands-hatch-grand-prix/
CATEGORIES:Ginetta GT Championship 2023
END:VEVENT
BEGIN:VEVENT
DTSTART;VALUE=DATE:20230909
DTEND;VALUE=DATE:20230911
DTSTAMP:20260423T234340
CREATED:20230522T145214Z
LAST-MODIFIED:20230522T145214Z
UID:7075-1694217600-1694390399@kimuraracing.com
SUMMARY:BRSCC Fiesta Junior Championship - TCR UK Donington Race Weekend
DESCRIPTION:
URL:https://kimuraracing.com/race/brscc-fiesta-junior-championship-tcr-uk-donington-race-weekend/
CATEGORIES:BRSCC Fiesta Junior Championship 2023
END:VEVENT
BEGIN:VEVENT
DTSTART;VALUE=DATE:20231006
DTEND;VALUE=DATE:20231009
DTSTAMP:20260423T234340
CREATED:20230210T111024Z
LAST-MODIFIED:20230210T111024Z
UID:5387-1696550400-1696809599@kimuraracing.com
SUMMARY:iRacing - Petit Le Mans
DESCRIPTION:
URL:https://kimuraracing.com/race/iracing-petit-le-mans/
CATEGORIES:Sim Racing
END:VEVENT
BEGIN:VEVENT
DTSTART;VALUE=DATE:20231021
DTEND;VALUE=DATE:20231023
DTSTAMP:20260423T234340
CREATED:20230210T105454Z
LAST-MODIFIED:20230210T105454Z
UID:5346-1697846400-1698019199@kimuraracing.com
SUMMARY:GB4 (with British GT & GB3)
DESCRIPTION:
URL:https://kimuraracing.com/race/gb4-with-british-gt-gb3/
CATEGORIES:GB4
END:VEVENT
BEGIN:VEVENT
DTSTART;VALUE=DATE:20231021
DTEND;VALUE=DATE:20231023
DTSTAMP:20260423T234340
CREATED:20230522T141155Z
LAST-MODIFIED:20230522T141155Z
UID:6994-1697846400-1698019199@kimuraracing.com
SUMMARY:Ginetta GT Championship - Round Eight - Donington Park (Grand Prix)
DESCRIPTION:
URL:https://kimuraracing.com/race/ginetta-gt-championship-round-eight-donington-park-grand-prix/
CATEGORIES:Ginetta GT Championship 2023
END:VEVENT
BEGIN:VEVENT
DTSTART;VALUE=DATE:20231028
DTEND;VALUE=DATE:20231029
DTSTAMP:20260423T234340
CREATED:20230522T141948Z
LAST-MODIFIED:20230522T141948Z
UID:7011-1698451200-1698537599@kimuraracing.com
SUMMARY:Fun Cup Endurance Championship - Round 8 - Oulton Park
DESCRIPTION:
URL:https://kimuraracing.com/race/fun-cup-endurance-championship-round-8-oulton-park/
CATEGORIES:Fun Cup Endurance Championship 2023
END:VEVENT
BEGIN:VEVENT
DTSTART;VALUE=DATE:20231028
DTEND;VALUE=DATE:20231029
DTSTAMP:20260423T234340
CREATED:20230522T142017Z
LAST-MODIFIED:20230522T142017Z
UID:7013-1698451200-1698537599@kimuraracing.com
SUMMARY:Fun Cup Endurance Championship - Round 9 - Oulton Park
DESCRIPTION:
URL:https://kimuraracing.com/race/fun-cup-endurance-championship-round-9-oulton-park/
CATEGORIES:Fun Cup Endurance Championship 2023
END:VEVENT
BEGIN:VEVENT
DTSTART;VALUE=DATE:20231110
DTEND;VALUE=DATE:20231113
DTSTAMP:20260423T234340
CREATED:20230210T111043Z
LAST-MODIFIED:20230210T111043Z
UID:5389-1699574400-1699833599@kimuraracing.com
SUMMARY:iRacing - Fuji 8 Hour
DESCRIPTION:
URL:https://kimuraracing.com/race/iracing-fuji-8-hour/
CATEGORIES:Sim Racing
END:VEVENT
END:VCALENDAR