BEGIN:VCALENDAR
VERSION:2.0
PRODID:-//Kimura Racing - ECPv6.2.2//NONSGML v1.0//EN
CALSCALE:GREGORIAN
METHOD:PUBLISH
X-WR-CALNAME:Kimura Racing
X-ORIGINAL-URL:https://kimuraracing.com
X-WR-CALDESC:Events for Kimura Racing
REFRESH-INTERVAL;VALUE=DURATION:PT1H
X-Robots-Tag:noindex
X-PUBLISHED-TTL:PT1H
BEGIN:VTIMEZONE
TZID:UTC
BEGIN:STANDARD
TZOFFSETFROM:+0000
TZOFFSETTO:+0000
TZNAME:UTC
DTSTART:20230101T000000
END:STANDARD
END:VTIMEZONE
BEGIN:VEVENT
DTSTART;VALUE=DATE:20230527
DTEND;VALUE=DATE:20230529
DTSTAMP:20260420T110056
CREATED:20230522T140843Z
LAST-MODIFIED:20230522T140851Z
UID:6984-1685145600-1685318399@kimuraracing.com
SUMMARY:Ginetta GT Championship - Round Three – Donington Park (Grand Prix)
DESCRIPTION:
URL:https://kimuraracing.com/race/ginetta-gt-championship-round-three-donington-park-grand-prix/
CATEGORIES:Ginetta GT Championship 2023
END:VEVENT
END:VCALENDAR