BEGIN:VCALENDAR
VERSION:2.0
PRODID:-//Kimura Racing - ECPv6.2.2//NONSGML v1.0//EN
CALSCALE:GREGORIAN
METHOD:PUBLISH
X-ORIGINAL-URL:https://kimuraracing.com
X-WR-CALDESC:Events for Kimura Racing
REFRESH-INTERVAL;VALUE=DURATION:PT1H
X-Robots-Tag:noindex
X-PUBLISHED-TTL:PT1H
BEGIN:VTIMEZONE
TZID:UTC
BEGIN:STANDARD
TZOFFSETFROM:+0000
TZOFFSETTO:+0000
TZNAME:UTC
DTSTART:20230101T000000
END:STANDARD
END:VTIMEZONE
BEGIN:VEVENT
DTSTART;VALUE=DATE:20230610
DTEND;VALUE=DATE:20230611
DTSTAMP:20260424T022737
CREATED:20230522T145027Z
LAST-MODIFIED:20230522T145027Z
UID:7068-1686355200-1686441599@kimuraracing.com
SUMMARY:BRSCC Fiesta Junior Championship - TCR UK Oulton Park Race Day
DESCRIPTION:
URL:https://kimuraracing.com/race/brscc-fiesta-junior-championship-tcr-uk-oulton-park-race-day/
CATEGORIES:BRSCC Fiesta Junior Championship 2023
END:VEVENT
END:VCALENDAR